BEGIN:VCALENDAR
VERSION:2.0
PRODID:-//Tukios.com/
BEGIN:VEVENT
UID:e4026ff8-f781-4af1-a062-faf3d2d4415a@www.jmhcares.com
DTSTAMP:20260424T212951Z
DTSTART:20260429T220000Z
DTEND:20260430T000000Z
SUMMARY:Visitation
DESCRIPTION:
URL:https://www.jmhcares.com/obituaries/sung-kim
LOCATION: 203 N Washington St  Junction City KS 66441
GEO:39.0243474;-96.8291574
END:VEVENT
END:VCALENDAR