BEGIN:VCALENDAR
VERSION:2.0
PRODID:-//Tukios.com/
BEGIN:VEVENT
UID:3033fb63-aa95-4c26-9c57-fbef567b471e@www.jmhcares.com
DTSTAMP:20260424T213340Z
DTSTART:20260430T160000Z
DTEND:20260430T170000Z
SUMMARY:Funeral
DESCRIPTION:
URL:https://www.jmhcares.com/obituaries/sung-kim
LOCATION:Korean Grace Baptist Church 629 Grant Avenue  Junction City KS 
	66441
GEO:39.0481022;-96.8140723
END:VEVENT
END:VCALENDAR