BEGIN:VCALENDAR
VERSION:2.0
PRODID:-//Tukios.com/
BEGIN:VEVENT
UID:2b9df007-5eb3-4d12-b0c3-491ba365c0b9@www.jmhcares.com
DTSTAMP:20260424T002703Z
DTSTART:20260508T180000Z
DTEND:20260508T190000Z
SUMMARY:Graveside Service
DESCRIPTION:
URL:https://www.jmhcares.com/obituaries/cameron-davis
LOCATION: 5181 Wildcat Creek Road  Manhattan KS 66503
GEO:39.135381;-96.6849019
END:VEVENT
END:VCALENDAR