BEGIN:VCALENDAR
VERSION:2.0
PRODID:-//Tukios.com/
BEGIN:VEVENT
UID:260d509c-1773-48d5-a4cf-55e6aca604ad@www.jmhcares.com
DTSTAMP:20260423T233752Z
DTSTART:20260530T160000Z
DTEND:20260530T170000Z
SUMMARY:Celebration of Life
DESCRIPTION:
URL:https://www.jmhcares.com/obituaries/bonnie-palmer
LOCATION:Thunder Hill Cowboy Church 8950 Elk Creek Road  Manhattan KS 
	66502
GEO:39.2031284;-96.5070733
END:VEVENT
END:VCALENDAR